BEGIN:VCALENDAR
VERSION:2.0
PRODID:-//Des Moines County Historical Society - ECPv6.15.16//NONSGML v1.0//EN
CALSCALE:GREGORIAN
METHOD:PUBLISH
X-WR-CALNAME:Des Moines County Historical Society
X-ORIGINAL-URL:https://dmchs.org
X-WR-CALDESC:Events for Des Moines County Historical Society
REFRESH-INTERVAL;VALUE=DURATION:PT1H
X-Robots-Tag:noindex
X-PUBLISHED-TTL:PT1H
BEGIN:VTIMEZONE
TZID:America/Chicago
BEGIN:DAYLIGHT
TZOFFSETFROM:-0600
TZOFFSETTO:-0500
TZNAME:CDT
DTSTART:20250309T080000
END:DAYLIGHT
BEGIN:STANDARD
TZOFFSETFROM:-0500
TZOFFSETTO:-0600
TZNAME:CST
DTSTART:20251102T070000
END:STANDARD
BEGIN:DAYLIGHT
TZOFFSETFROM:-0600
TZOFFSETTO:-0500
TZNAME:CDT
DTSTART:20260308T080000
END:DAYLIGHT
BEGIN:STANDARD
TZOFFSETFROM:-0500
TZOFFSETTO:-0600
TZNAME:CST
DTSTART:20261101T070000
END:STANDARD
BEGIN:DAYLIGHT
TZOFFSETFROM:-0600
TZOFFSETTO:-0500
TZNAME:CDT
DTSTART:20270314T080000
END:DAYLIGHT
BEGIN:STANDARD
TZOFFSETFROM:-0500
TZOFFSETTO:-0600
TZNAME:CST
DTSTART:20271107T070000
END:STANDARD
END:VTIMEZONE
BEGIN:VEVENT
DTSTART;TZID=America/Chicago:20260530T100000
DTEND;TZID=America/Chicago:20260530T160000
DTSTAMP:20260423T064718
CREATED:20260129T192436Z
LAST-MODIFIED:20260416T171356Z
UID:2812-1780135200-1780156800@dmchs.org
SUMMARY:Snake Alley Days
DESCRIPTION:Saturday\, May 30 | 10:00 AM – 4:00 PM\nEnjoy a fun-filled day with the Des Moines County Heritage Center with exciting activities to celebrate our shared history!\n\nRegular admission fees: $10/General | $8/Seniors | $2/Children\n\n\nEvent times and locations may change. \n\n\n\nTime\nEvent\nLocation\n\n\n\n\n10:00–10:20 AM\nOpening Keynote: Welcome & Importance of Des Moines County History\nHeritage Center – Grand Gallery\n\n\n10:20–10:50 AM\nRagtime Piano Performance\nHeritage Center\n\n\n10:30 AM–12:00 PM\nThe Stacks: The Room that Standardized Library Furnishings\nHeritage Center – Stack Room\n\n\n10:30 AM–12:00 PM\nHistory of Starr’s Cave\nHeritage Center – Bart Howard Lounge\n\n\n12:00–1:00 PM\nBurlington Healers (1866-1965)\nHeritage Center – Bart Howard Lounge\n\n\n1:00–1:30 PM\nHistoric Jewell Water Fountain Activation\nHeritage Center\n\n\n1:30–3:00 PM\nBackyard Archaeology\nGarrett-Phelps Sunken Garden\n\n\n1:30–3:00 PM\nBehind-the-Scenes Tour: Garrett-Phelps Basement\nGarrett-Phelps House\n\n\n3:00–3:30 PM\nAfternoon Keynote: Black Hawk Rock & Indigenous History of Des Moines County\nHeritage Center\n\n\n3:00–3:30 PM\nRagtime Piano Performance\nGarrett-Phelps House\n\n\n3:30–4:00 PM\nBlack Hawk Rock Archaeological Findings (Extended Discussion / Q&A)\nHeritage Center
URL:https://dmchs.org/event/snake-alley-days/
END:VEVENT
END:VCALENDAR