BEGIN:VCALENDAR
VERSION:2.0
PRODID:-//Des Moines County Historical Society - ECPv6.15.16//NONSGML v1.0//EN
CALSCALE:GREGORIAN
METHOD:PUBLISH
X-ORIGINAL-URL:https://dmchs.org
X-WR-CALDESC:Events for Des Moines County Historical Society
REFRESH-INTERVAL;VALUE=DURATION:PT1H
X-Robots-Tag:noindex
X-PUBLISHED-TTL:PT1H
BEGIN:VTIMEZONE
TZID:America/Chicago
BEGIN:DAYLIGHT
TZOFFSETFROM:-0600
TZOFFSETTO:-0500
TZNAME:CDT
DTSTART:20250309T080000
END:DAYLIGHT
BEGIN:STANDARD
TZOFFSETFROM:-0500
TZOFFSETTO:-0600
TZNAME:CST
DTSTART:20251102T070000
END:STANDARD
BEGIN:DAYLIGHT
TZOFFSETFROM:-0600
TZOFFSETTO:-0500
TZNAME:CDT
DTSTART:20260308T080000
END:DAYLIGHT
BEGIN:STANDARD
TZOFFSETFROM:-0500
TZOFFSETTO:-0600
TZNAME:CST
DTSTART:20261101T070000
END:STANDARD
BEGIN:DAYLIGHT
TZOFFSETFROM:-0600
TZOFFSETTO:-0500
TZNAME:CDT
DTSTART:20270314T080000
END:DAYLIGHT
BEGIN:STANDARD
TZOFFSETFROM:-0500
TZOFFSETTO:-0600
TZNAME:CST
DTSTART:20271107T070000
END:STANDARD
END:VTIMEZONE
BEGIN:VEVENT
DTSTART;TZID=America/Chicago:20260114T113000
DTEND;TZID=America/Chicago:20260114T123000
DTSTAMP:20260423T211513
CREATED:20260108T201241Z
LAST-MODIFIED:20260108T201443Z
UID:2774-1768390200-1768393800@dmchs.org
SUMMARY:History Club
DESCRIPTION:The History Club meets every Wednesday from in the Bart Howard Lounge.\nWe have a great time exploring Des Moines County history\, learning new information and recalling old memories.
URL:https://dmchs.org/event/history-club/
LOCATION:Bart Howard Lounge\, 501 N 4th Street\, Burlington\, IA\, 52601\, United States
CATEGORIES:Bark Howard Lounge
END:VEVENT
END:VCALENDAR